BEGIN:VCALENDAR
VERSION:2.0
PRODID:-//Calgary Buddhist Temple - ECPv5.1.2//NONSGML v1.0//EN
CALSCALE:GREGORIAN
METHOD:PUBLISH
X-WR-CALNAME:Calgary Buddhist Temple
X-ORIGINAL-URL:http://calgary-buddhist.ab.ca
X-WR-CALDESC:Events for Calgary Buddhist Temple
BEGIN:VTIMEZONE
TZID:America/Edmonton
BEGIN:DAYLIGHT
TZOFFSETFROM:-0700
TZOFFSETTO:-0600
TZNAME:MDT
DTSTART:20190310T090000
END:DAYLIGHT
BEGIN:STANDARD
TZOFFSETFROM:-0600
TZOFFSETTO:-0700
TZNAME:MST
DTSTART:20191103T080000
END:STANDARD
END:VTIMEZONE
BEGIN:VEVENT
DTSTART;TZID=America/Edmonton:20190830T170000
DTEND;TZID=America/Edmonton:20190901T120000
DTSTAMP:20260420T084213
CREATED:20190324T030311Z
LAST-MODIFIED:20190524T201023Z
UID:3137-1567184400-1567339200@calgary-buddhist.ab.ca
SUMMARY:2019 WBWC
DESCRIPTION:16th World Buddhist Women’s Convention will be held in San Francisco\, CA from Aug 30 to Sep 1 – Pre-registration is required!  For more information\, please visit www.wbwconvention.org \n
URL:http://calgary-buddhist.ab.ca/event/2019-wbwc/
LOCATION:Calgary Buddhist Temple\, 658 - 1 Avenue N.E.\, Calgary\, Alberta\, T2E 3Y1\, Canada
END:VEVENT
END:VCALENDAR