BEGIN:VCALENDAR
VERSION:2.0
PRODID:-//Calgary Buddhist Temple - ECPv5.1.2//NONSGML v1.0//EN
CALSCALE:GREGORIAN
METHOD:PUBLISH
X-WR-CALNAME:Calgary Buddhist Temple
X-ORIGINAL-URL:http://calgary-buddhist.ab.ca
X-WR-CALDESC:Events for Calgary Buddhist Temple
BEGIN:VTIMEZONE
TZID:America/Edmonton
BEGIN:DAYLIGHT
TZOFFSETFROM:-0700
TZOFFSETTO:-0600
TZNAME:MDT
DTSTART:20220313T090000
END:DAYLIGHT
BEGIN:STANDARD
TZOFFSETFROM:-0600
TZOFFSETTO:-0700
TZNAME:MST
DTSTART:20221106T080000
END:STANDARD
END:VTIMEZONE
BEGIN:VEVENT
DTSTART;TZID=America/Edmonton:20220515T090000
DTEND;TZID=America/Edmonton:20220515T093000
DTSTAMP:20260421T121433
CREATED:20220326T021445Z
LAST-MODIFIED:20220326T021445Z
UID:5236-1652605200-1652607000@calgary-buddhist.ab.ca
SUMMARY:Seated Meditation
DESCRIPTION:
URL:http://calgary-buddhist.ab.ca/event/seated-meditation-7/
LOCATION:Calgary Buddhist Temple\, 658 - 1 Avenue N.E.\, Calgary\, Alberta\, T2E 3Y1\, Canada
ORGANIZER;CN="Calgary%20Buddhist%20Temple":MAILTO:calgarybuddhisttemple@gmail.com
END:VEVENT
BEGIN:VEVENT
DTSTART;TZID=America/Edmonton:20220515T100000
DTEND;TZID=America/Edmonton:20220515T110000
DTSTAMP:20260421T121433
CREATED:20220223T071655Z
LAST-MODIFIED:20220223T071655Z
UID:5156-1652608800-1652612400@calgary-buddhist.ab.ca
SUMMARY:Sunday Service
DESCRIPTION:We hope you will join us either in-person or online on Facebook live – Everyone is welcome!  \nPlease keep an eye on the Home page of this website for COVID related restrictions or requirements to attend the in-person service. \n
URL:http://calgary-buddhist.ab.ca/event/sunday-service-35/
LOCATION:Calgary Buddhist Temple\, 658 - 1 Avenue N.E.\, Calgary\, Alberta\, T2E 3Y1\, Canada
ORGANIZER;CN="Calgary%20Buddhist%20Temple":MAILTO:calgarybuddhisttemple@gmail.com
END:VEVENT
BEGIN:VEVENT
DTSTART;TZID=America/Edmonton:20220515T130000
DTEND;TZID=America/Edmonton:20220515T143000
DTSTAMP:20260421T121433
CREATED:20220223T072108Z
LAST-MODIFIED:20220223T072108Z
UID:5164-1652619600-1652625000@calgary-buddhist.ab.ca
SUMMARY:Our Gratitude to Breath
DESCRIPTION:Join the Sangha for this 90 minute online workshop with Sensei Tanis Moore.  Breath: Our connection to life – Breathing in\, breathing out\, this repeated about 25\,000 times per day\, and yet we most often take it for granted.  It’s only when an illness causes us to realize the preciousness of breath\, that we realize this connection to all living beings.  Every breath we take has been shared with other people\, animals\, and birds and trees.  Our gratitude to breath.   \nWe will discuss the anatomy of breathing\, do some breathing exercises and become aware of the movement of breath through our bodies\, and how it can bring awareness\, relaxation and healing to various parts of our bodies. \nRegister online:  https://bit.ly/breath-15May22 \n
URL:http://calgary-buddhist.ab.ca/event/our-gratitude-to-breath/
LOCATION:Alberta
ORGANIZER;CN="Calgary%20Buddhist%20Temple":MAILTO:calgarybuddhisttemple@gmail.com
END:VEVENT
END:VCALENDAR