BEGIN:VCALENDAR
VERSION:2.0
PRODID:-//Calgary Buddhist Temple - ECPv5.1.2//NONSGML v1.0//EN
CALSCALE:GREGORIAN
METHOD:PUBLISH
X-WR-CALNAME:Calgary Buddhist Temple
X-ORIGINAL-URL:http://calgary-buddhist.ab.ca
X-WR-CALDESC:Events for Calgary Buddhist Temple
BEGIN:VTIMEZONE
TZID:America/Edmonton
BEGIN:DAYLIGHT
TZOFFSETFROM:-0700
TZOFFSETTO:-0600
TZNAME:MDT
DTSTART:20230312T090000
END:DAYLIGHT
BEGIN:STANDARD
TZOFFSETFROM:-0600
TZOFFSETTO:-0700
TZNAME:MST
DTSTART:20231105T080000
END:STANDARD
END:VTIMEZONE
BEGIN:VEVENT
DTSTART;TZID=America/Edmonton:20230723T090000
DTEND;TZID=America/Edmonton:20230723T093000
DTSTAMP:20260422T223057
CREATED:20230502T203859Z
LAST-MODIFIED:20230720T224814Z
UID:6114-1690102800-1690104600@calgary-buddhist.ab.ca
SUMMARY:NO Meditation nor 10am Service
DESCRIPTION:No seated meditation this day due to the cemetery services.  Sunday OBON service is at 3pm today. \n
URL:http://calgary-buddhist.ab.ca/event/seated-meditation-57/
LOCATION:Calgary Buddhist Temple\, 658 - 1 Avenue N.E.\, Calgary\, Alberta\, T2E 3Y1\, Canada
ORGANIZER;CN="Calgary%20Buddhist%20Temple":MAILTO:calgarybuddhisttemple@gmail.com
END:VEVENT
BEGIN:VEVENT
DTSTART;TZID=America/Edmonton:20230723T110000
DTEND;TZID=America/Edmonton:20230723T113000
DTSTAMP:20260422T223057
CREATED:20230502T205309Z
LAST-MODIFIED:20230502T205309Z
UID:6135-1690110000-1690111800@calgary-buddhist.ab.ca
SUMMARY:Cemetery Service - Eden Brook
DESCRIPTION:
URL:http://calgary-buddhist.ab.ca/event/cemetery-service-eden-brook/
LOCATION:Eden Brook Cemetery\, 24223 Township Rd 242\, Calgary\, AB\, T3Z 3K2\, Canada
ORGANIZER;CN="Calgary%20Buddhist%20Temple":MAILTO:calgarybuddhisttemple@gmail.com
END:VEVENT
BEGIN:VEVENT
DTSTART;TZID=America/Edmonton:20230723T130000
DTEND;TZID=America/Edmonton:20230723T133000
DTSTAMP:20260422T223057
CREATED:20230502T205356Z
LAST-MODIFIED:20230502T205356Z
UID:6137-1690117200-1690119000@calgary-buddhist.ab.ca
SUMMARY:Cemetery Service - Queens Park
DESCRIPTION:
URL:http://calgary-buddhist.ab.ca/event/cemetery-service-queens-park/
LOCATION:Queen’s Park Cemetery\, 3219 4 St NW\, Calgary\, AB\, T2M 3A6\, Canada
ORGANIZER;CN="Calgary%20Buddhist%20Temple":MAILTO:calgarybuddhisttemple@gmail.com
END:VEVENT
BEGIN:VEVENT
DTSTART;TZID=America/Edmonton:20230723T150000
DTEND;TZID=America/Edmonton:20230723T160000
DTSTAMP:20260422T223057
CREATED:20230502T204753Z
LAST-MODIFIED:20230502T204914Z
UID:6128-1690124400-1690128000@calgary-buddhist.ab.ca
SUMMARY:OBON Service
DESCRIPTION:Obon is a special service to show appreciation to all the people who passed before us whom we would not be here without. \nWe hope you will join us either in-person or online on Facebook live – Everyone is welcome!  \n
URL:http://calgary-buddhist.ab.ca/event/sunday-service-73/
LOCATION:Calgary Buddhist Temple\, 658 - 1 Avenue N.E.\, Calgary\, Alberta\, T2E 3Y1\, Canada
ORGANIZER;CN="Calgary%20Buddhist%20Temple":MAILTO:calgarybuddhisttemple@gmail.com
END:VEVENT
END:VCALENDAR