BEGIN:VCALENDAR
VERSION:2.0
PRODID:-//Calgary Buddhist Temple - ECPv5.1.2//NONSGML v1.0//EN
CALSCALE:GREGORIAN
METHOD:PUBLISH
X-WR-CALNAME:Calgary Buddhist Temple
X-ORIGINAL-URL:http://calgary-buddhist.ab.ca
X-WR-CALDESC:Events for Calgary Buddhist Temple
BEGIN:VTIMEZONE
TZID:America/Edmonton
BEGIN:DAYLIGHT
TZOFFSETFROM:-0700
TZOFFSETTO:-0600
TZNAME:MDT
DTSTART:20180311T090000
END:DAYLIGHT
BEGIN:STANDARD
TZOFFSETFROM:-0600
TZOFFSETTO:-0700
TZNAME:MST
DTSTART:20181104T080000
END:STANDARD
END:VTIMEZONE
BEGIN:VEVENT
DTSTART;TZID=America/Edmonton:20180906T193000
DTEND;TZID=America/Edmonton:20180906T203000
DTSTAMP:20260419T194446
CREATED:20180604T231752Z
LAST-MODIFIED:20180604T232102Z
UID:2789-1536262200-1536265800@calgary-buddhist.ab.ca
SUMMARY:Buddhism 101
DESCRIPTION:Interested in Buddhism and how it can be a part of your daily life? \nThen join us on Thursdays\, 7:30 – 8:30 pm as the fundamentals of Buddhism will be introduced and discussed. \n  \nEach evening will be a combination of short DVD clips followed by a question and answer/ discussion time. \nNo prior knowledge or experience is required\, just an open and curious mind! \n
URL:http://calgary-buddhist.ab.ca/event/buddhism-101-10/
LOCATION:Calgary Buddhist Temple\, 658 - 1 Avenue N.E.\, Calgary\, Alberta\, T2E 3Y1\, Canada
END:VEVENT
END:VCALENDAR