BEGIN:VCALENDAR
VERSION:2.0
PRODID:-//Calgary Buddhist Temple - ECPv5.1.2//NONSGML v1.0//EN
CALSCALE:GREGORIAN
METHOD:PUBLISH
X-WR-CALNAME:Calgary Buddhist Temple
X-ORIGINAL-URL:http://calgary-buddhist.ab.ca
X-WR-CALDESC:Events for Calgary Buddhist Temple
BEGIN:VTIMEZONE
TZID:America/Edmonton
BEGIN:DAYLIGHT
TZOFFSETFROM:-0700
TZOFFSETTO:-0600
TZNAME:MDT
DTSTART:20180311T090000
END:DAYLIGHT
BEGIN:STANDARD
TZOFFSETFROM:-0600
TZOFFSETTO:-0700
TZNAME:MST
DTSTART:20181104T080000
END:STANDARD
END:VTIMEZONE
BEGIN:VEVENT
DTSTART;TZID=America/Edmonton:20181020T163000
DTEND;TZID=America/Edmonton:20181020T200000
DTSTAMP:20260419T175531
CREATED:20181020T174529Z
LAST-MODIFIED:20181020T174529Z
UID:2903-1540053000-1540065600@calgary-buddhist.ab.ca
SUMMARY:Chow Mein Supper
DESCRIPTION:Chow Mein Supper on Saturday\, October 20\, 2018 from 4:30 to 8:00 PM at the temple (658 1st Ave NE). Tickets are $20 (eat-in or take out).  \nWe will be selling various Japanese-themed items as well as tickets for our WestJet raffle. All proceeds from the dinner will go towards the CBT Capital Campaign.  \n
URL:http://calgary-buddhist.ab.ca/event/chow-mein-supper/
LOCATION:Calgary Buddhist Temple\, 658 - 1 Avenue N.E.\, Calgary\, Alberta\, T2E 3Y1\, Canada
ORGANIZER;CN="Calgary%20Buddhist%20Temple":MAILTO:calgarybuddhisttemple@gmail.com
END:VEVENT
END:VCALENDAR