BEGIN:VCALENDAR
VERSION:2.0
PRODID:-//Calgary Buddhist Temple - ECPv5.1.2//NONSGML v1.0//EN
CALSCALE:GREGORIAN
METHOD:PUBLISH
X-WR-CALNAME:Calgary Buddhist Temple
X-ORIGINAL-URL:http://calgary-buddhist.ab.ca
X-WR-CALDESC:Events for Calgary Buddhist Temple
BEGIN:VTIMEZONE
TZID:America/Edmonton
BEGIN:DAYLIGHT
TZOFFSETFROM:-0700
TZOFFSETTO:-0600
TZNAME:MDT
DTSTART:20180311T090000
END:DAYLIGHT
BEGIN:STANDARD
TZOFFSETFROM:-0600
TZOFFSETTO:-0700
TZNAME:MST
DTSTART:20181104T080000
END:STANDARD
END:VTIMEZONE
BEGIN:VEVENT
DTSTART;TZID=America/Edmonton:20180923T100000
DTEND;TZID=America/Edmonton:20180923T160000
DTSTAMP:20260420T004557
CREATED:20180817T043519Z
LAST-MODIFIED:20180817T045105Z
UID:2852-1537696800-1537718400@calgary-buddhist.ab.ca
SUMMARY:Doors Open Calgary (YYC)
DESCRIPTION:The Calgary Buddhist Temple is participating in the Doors Open YYC. This is where buildings in all quadrants of the city open their doors – free of charge – to the public and provide special tours and behind-the-scene experiences.  \nDoors Open is a well-established and highly successful international concept that allows people free access to buildings in order to create enthusiasm for heritage and contemporary architecture and increase the appreciation of historic and culturally significant places and spaces. For more information on Doors Open YYC\, please visit www.doorsopenyyc.org \n
URL:http://calgary-buddhist.ab.ca/event/doors-open-calgary-doyyc/
LOCATION:Calgary Buddhist Temple\, 658 - 1 Avenue N.E.\, Calgary\, Alberta\, T2E 3Y1\, Canada
ORGANIZER;CN="Calgary%20Buddhist%20Temple":MAILTO:calgarybuddhisttemple@gmail.com
END:VEVENT
END:VCALENDAR