BEGIN:VCALENDAR
VERSION:2.0
PRODID:-//Calgary Buddhist Temple - ECPv5.1.2//NONSGML v1.0//EN
CALSCALE:GREGORIAN
METHOD:PUBLISH
X-WR-CALNAME:Calgary Buddhist Temple
X-ORIGINAL-URL:http://calgary-buddhist.ab.ca
X-WR-CALDESC:Events for Calgary Buddhist Temple
BEGIN:VTIMEZONE
TZID:America/Edmonton
BEGIN:DAYLIGHT
TZOFFSETFROM:-0700
TZOFFSETTO:-0600
TZNAME:MDT
DTSTART:20200308T090000
END:DAYLIGHT
BEGIN:STANDARD
TZOFFSETFROM:-0600
TZOFFSETTO:-0700
TZNAME:MST
DTSTART:20201101T080000
END:STANDARD
END:VTIMEZONE
BEGIN:VEVENT
DTSTART;TZID=America/Edmonton:20200823T110000
DTEND;TZID=America/Edmonton:20200823T113000
DTSTAMP:20260425T201944
CREATED:20200722T023134Z
LAST-MODIFIED:20200722T023134Z
UID:4116-1598180400-1598182200@calgary-buddhist.ab.ca
SUMMARY:Eden Brook Cemetery Service
DESCRIPTION:EVERYONE welcome \n
URL:http://calgary-buddhist.ab.ca/event/eden-brook-cemetery-service/
LOCATION:Eden Brook Cemetery\, 24223 Township Rd 242\, Calgary\, AB\, T3Z 3K2\, Canada
ORGANIZER;CN="Calgary%20Buddhist%20Temple":MAILTO:calgarybuddhisttemple@gmail.com
END:VEVENT
END:VCALENDAR