BEGIN:VCALENDAR
VERSION:2.0
PRODID:-//Calgary Buddhist Temple - ECPv5.1.2//NONSGML v1.0//EN
CALSCALE:GREGORIAN
METHOD:PUBLISH
X-WR-CALNAME:Calgary Buddhist Temple
X-ORIGINAL-URL:http://calgary-buddhist.ab.ca
X-WR-CALDESC:Events for Calgary Buddhist Temple
BEGIN:VTIMEZONE
TZID:America/Edmonton
BEGIN:DAYLIGHT
TZOFFSETFROM:-0700
TZOFFSETTO:-0600
TZNAME:MDT
DTSTART:20200308T090000
END:DAYLIGHT
BEGIN:STANDARD
TZOFFSETFROM:-0600
TZOFFSETTO:-0700
TZNAME:MST
DTSTART:20201101T080000
END:STANDARD
END:VTIMEZONE
BEGIN:VEVENT
DTSTART;TZID=America/Edmonton:20201212T140000
DTEND;TZID=America/Edmonton:20201212T153000
DTSTAMP:20260424T195631
CREATED:20201211T044747Z
LAST-MODIFIED:20201211T044747Z
UID:4383-1607781600-1607787000@calgary-buddhist.ab.ca
SUMMARY:Kampai - Uniting People with Sake
DESCRIPTION:This is going to be an interesting workshop and a great way to engage and unite people with sake!  Register in advance for this online\, Zoom workshop by going to:  https://us02web.zoom.us/meeting/register/tZEvceyqpjkvHtxYUT63-ZaB6BG4Cxq6QFwK  \n
URL:http://calgary-buddhist.ab.ca/event/kampai-uniting-people-with-sake/
END:VEVENT
END:VCALENDAR