BEGIN:VCALENDAR
VERSION:2.0
PRODID:-//Calgary Buddhist Temple - ECPv5.1.2//NONSGML v1.0//EN
CALSCALE:GREGORIAN
METHOD:PUBLISH
X-WR-CALNAME:Calgary Buddhist Temple
X-ORIGINAL-URL:http://calgary-buddhist.ab.ca
X-WR-CALDESC:Events for Calgary Buddhist Temple
BEGIN:VTIMEZONE
TZID:America/Edmonton
BEGIN:DAYLIGHT
TZOFFSETFROM:-0700
TZOFFSETTO:-0600
TZNAME:MDT
DTSTART:20180311T090000
END:DAYLIGHT
BEGIN:STANDARD
TZOFFSETFROM:-0600
TZOFFSETTO:-0700
TZNAME:MST
DTSTART:20181104T080000
END:STANDARD
END:VTIMEZONE
BEGIN:VEVENT
DTSTART;TZID=America/Edmonton:20181031T100000
DTEND;TZID=America/Edmonton:20181031T110000
DTSTAMP:20260419T142430
CREATED:20181031T220533Z
LAST-MODIFIED:20181031T220533Z
UID:2919-1540980000-1540983600@calgary-buddhist.ab.ca
SUMMARY:Keirokai/ Gotanye Service
DESCRIPTION:\n\nKeirokai is a yearly event honouring our members who are ‘Keiro’\, that is\, our senior\, experienced Sangha members. \nGotan-ye is the celebration of birth of Shinran Shonin\, the founder of Jodo Shinshu Buddhism. Shinran Shonin was born on May 21\, 1173. Gotan means birth and Ye means gathering. \n\n\n
URL:http://calgary-buddhist.ab.ca/event/keirokai-gotanye-service-2/
LOCATION:Calgary Buddhist Temple\, 658 - 1 Avenue N.E.\, Calgary\, Alberta\, T2E 3Y1\, Canada
END:VEVENT
END:VCALENDAR