BEGIN:VCALENDAR
VERSION:2.0
PRODID:-//Calgary Buddhist Temple - ECPv5.1.2//NONSGML v1.0//EN
CALSCALE:GREGORIAN
METHOD:PUBLISH
X-WR-CALNAME:Calgary Buddhist Temple
X-ORIGINAL-URL:http://calgary-buddhist.ab.ca
X-WR-CALDESC:Events for Calgary Buddhist Temple
BEGIN:VTIMEZONE
TZID:America/Edmonton
BEGIN:DAYLIGHT
TZOFFSETFROM:-0700
TZOFFSETTO:-0600
TZNAME:MDT
DTSTART:20170312T090000
END:DAYLIGHT
BEGIN:STANDARD
TZOFFSETFROM:-0600
TZOFFSETTO:-0700
TZNAME:MST
DTSTART:20171105T080000
END:STANDARD
END:VTIMEZONE
BEGIN:VEVENT
DTSTART;TZID=America/Edmonton:20170910T110000
DTEND;TZID=America/Edmonton:20170910T120000
DTSTAMP:20260423T064302
CREATED:20170517T023019Z
LAST-MODIFIED:20170517T023019Z
UID:2244-1505041200-1505044800@calgary-buddhist.ab.ca
SUMMARY:Library is Open
DESCRIPTION:Our downstairs library has books for loan and is open every second Sunday of the month. \nA membership is $20.00 and books can be borrowed for a one month period. \nYou may also join us and have a cup of tea and an informal discussion on various topics! \n
URL:http://calgary-buddhist.ab.ca/event/library-is-open-8/
LOCATION:Calgary Buddhist Temple\, 658 - 1 Avenue N.E.\, Calgary\, Alberta\, T2E 3Y1\, Canada
ORGANIZER;CN="Calgary%20Buddhist%20Temple":MAILTO:calgarybuddhisttemple@gmail.com
END:VEVENT
END:VCALENDAR