BEGIN:VCALENDAR
VERSION:2.0
PRODID:-//Calgary Buddhist Temple - ECPv5.1.2//NONSGML v1.0//EN
CALSCALE:GREGORIAN
METHOD:PUBLISH
X-WR-CALNAME:Calgary Buddhist Temple
X-ORIGINAL-URL:http://calgary-buddhist.ab.ca
X-WR-CALDESC:Events for Calgary Buddhist Temple
BEGIN:VTIMEZONE
TZID:America/Edmonton
BEGIN:DAYLIGHT
TZOFFSETFROM:-0700
TZOFFSETTO:-0600
TZNAME:MDT
DTSTART:20180311T090000
END:DAYLIGHT
BEGIN:STANDARD
TZOFFSETFROM:-0600
TZOFFSETTO:-0700
TZNAME:MST
DTSTART:20181104T080000
END:STANDARD
END:VTIMEZONE
BEGIN:VEVENT
DTSTART;TZID=America/Edmonton:20180519T090000
DTEND;TZID=America/Edmonton:20180519T120000
DTSTAMP:20260424T173527
CREATED:20180410T154322Z
LAST-MODIFIED:20180410T154322Z
UID:2712-1526720400-1526731200@calgary-buddhist.ab.ca
SUMMARY:Meditation Retreat - morning
DESCRIPTION:  \n  \nMorning meditation retreat – 9am (sharp!) through noon. \n  \nA mini retreat to experience a deeply calmed mind. \n  \n3 x 40 minute meditation sessions. \nWalking meditation between. \n  \n  \nPlease wear dull black or brown comfortable clothes and bring indoor socks or slippers. \nPlease do not consume coffee or stimulants beforehand. \nIt will be a silent retreat\, attempting deep mind-calming discipline. \n  \nCost: $0 \n  \nPeace\, \nKen \n  \n
URL:http://calgary-buddhist.ab.ca/event/meditation-retreat-morning/
LOCATION:Calgary Buddhist Temple\, 658 - 1 Avenue N.E.\, Calgary\, Alberta\, T2E 3Y1\, Canada
END:VEVENT
END:VCALENDAR