BEGIN:VCALENDAR
VERSION:2.0
PRODID:-//Calgary Buddhist Temple - ECPv5.1.2//NONSGML v1.0//EN
CALSCALE:GREGORIAN
METHOD:PUBLISH
X-WR-CALNAME:Calgary Buddhist Temple
X-ORIGINAL-URL:http://calgary-buddhist.ab.ca
X-WR-CALDESC:Events for Calgary Buddhist Temple
BEGIN:VTIMEZONE
TZID:America/Edmonton
BEGIN:DAYLIGHT
TZOFFSETFROM:-0700
TZOFFSETTO:-0600
TZNAME:MDT
DTSTART:20210314T090000
END:DAYLIGHT
BEGIN:STANDARD
TZOFFSETFROM:-0600
TZOFFSETTO:-0700
TZNAME:MST
DTSTART:20211107T080000
END:STANDARD
END:VTIMEZONE
BEGIN:VEVENT
DTSTART;TZID=America/Edmonton:20210101T140000
DTEND;TZID=America/Edmonton:20210101T150000
DTSTAMP:20260425T031054
CREATED:20201209T060736Z
LAST-MODIFIED:20201211T043238Z
UID:4365-1609509600-1609513200@calgary-buddhist.ab.ca
SUMMARY:New Year's Day Service
DESCRIPTION:Sensei will be streaming this Service using Facebook Live from the Facebook group\, Calgary Buddhist Temple Group starting at 2:00pm (MST).  \n
URL:http://calgary-buddhist.ab.ca/event/new-years-service-to-be-confirmed/
LOCATION:Calgary Buddhist Temple\, 658 - 1 Avenue N.E.\, Calgary\, Alberta\, T2E 3Y1\, Canada
END:VEVENT
END:VCALENDAR