BEGIN:VCALENDAR
VERSION:2.0
PRODID:-//Calgary Buddhist Temple - ECPv5.1.2//NONSGML v1.0//EN
CALSCALE:GREGORIAN
METHOD:PUBLISH
X-WR-CALNAME:Calgary Buddhist Temple
X-ORIGINAL-URL:http://calgary-buddhist.ab.ca
X-WR-CALDESC:Events for Calgary Buddhist Temple
BEGIN:VTIMEZONE
TZID:America/Edmonton
BEGIN:DAYLIGHT
TZOFFSETFROM:-0700
TZOFFSETTO:-0600
TZNAME:MDT
DTSTART:20180311T090000
END:DAYLIGHT
BEGIN:STANDARD
TZOFFSETFROM:-0600
TZOFFSETTO:-0700
TZNAME:MST
DTSTART:20181104T080000
END:STANDARD
END:VTIMEZONE
BEGIN:VEVENT
DTSTART;TZID=America/Edmonton:20180826T150000
DTEND;TZID=America/Edmonton:20180826T170000
DTSTAMP:20260419T214521
CREATED:20180603T215222Z
LAST-MODIFIED:20180729T002606Z
UID:2777-1535295600-1535302800@calgary-buddhist.ab.ca
SUMMARY:Obon Service - Honouring all Ancestors
DESCRIPTION:Schedule for cemetery visits: \n Strathmore – 9:00 am \n Mountain View – 9:45 am \n Burnsland – 10:30 am \n Eden Brook – 11:00 am \n Queens – 1:00 pm \nTemple service – 3:00-5:00 pm with potluck meal to follow. \nObon is a Buddhist observance that was originally observed in Mahayana Buddhist countries\, including China\, Korea\, Japan\, and Vietnam. \nObon season is a time to express our gratitude to loved ones who have passed on before us. Without them\, we would not be who we are today\, due to the basic tenet of interdependence. We would not be where we are and we would not be able to do the things we do to enjoy life. Just think about the number of people involved in creating each of us. If we go back just thirty generations\, we can calculate that there were over two billion parents\, starting with our two parents\, their four parents\, and so on—and that’s just the physical part. \nSince we’re all influenced by a countless number of beings\, our interconnections\, and therefore our debt of gratitude\, is without bounds. Thus\, temples hold an Obon memorial service to enable people to pay tribute to the departed. The service is usually held separately from the festival so that the sangha (Buddhist community) can participate in this solemn and respectful remembrance in quiet reflection. \nThe word “Obon” is the abbreviated name of the ancient Ullambana Sutra\, whose Japanese pronunciation is Urabon. The sutra tells of the Buddhist monk\, Maudgalyayana (Mokuren in Japanese) who offered food to the sangha in an effort to release his mother from her hellish torments. When she became liberated\, her son is said to have danced for joy. \n
URL:http://calgary-buddhist.ab.ca/event/service-11/
LOCATION:Calgary Buddhist Temple\, 658 - 1 Avenue N.E.\, Calgary\, Alberta\, T2E 3Y1\, Canada
ORGANIZER;CN="Calgary%20Buddhist%20Temple":MAILTO:calgarybuddhisttemple@gmail.com
END:VEVENT
END:VCALENDAR