BEGIN:VCALENDAR
VERSION:2.0
PRODID:-//Calgary Buddhist Temple - ECPv5.1.2//NONSGML v1.0//EN
CALSCALE:GREGORIAN
METHOD:PUBLISH
X-WR-CALNAME:Calgary Buddhist Temple
X-ORIGINAL-URL:http://calgary-buddhist.ab.ca
X-WR-CALDESC:Events for Calgary Buddhist Temple
BEGIN:VTIMEZONE
TZID:America/Edmonton
BEGIN:DAYLIGHT
TZOFFSETFROM:-0700
TZOFFSETTO:-0600
TZNAME:MDT
DTSTART:20180311T090000
END:DAYLIGHT
BEGIN:STANDARD
TZOFFSETFROM:-0600
TZOFFSETTO:-0700
TZNAME:MST
DTSTART:20181104T080000
END:STANDARD
END:VTIMEZONE
BEGIN:VEVENT
DTSTART;TZID=America/Edmonton:20180325T100000
DTEND;TZID=America/Edmonton:20180325T110000
DTSTAMP:20260423T033141
CREATED:20171208T213031Z
LAST-MODIFIED:20180221T165118Z
UID:2505-1521972000-1521975600@calgary-buddhist.ab.ca
SUMMARY:WF Dana Day and Service
DESCRIPTION:Our services are open to all and no prior knowledge or experience with Buddhism is necessary. \nThe services are conducted in English with the exception of some chanting. \nAll donations made on March 25 will be gratefully collected and sent to the Jodo Shinshu Buddhist Temples of Canada Women’s Federation (WF) National office so that the WF can continue to support social welfare initiatives. Thank you for your generous support of “Dana” – giving without thought of receiving something in return. \n
URL:http://calgary-buddhist.ab.ca/event/service-4/
LOCATION:Calgary Buddhist Temple\, 658 - 1 Avenue N.E.\, Calgary\, Alberta\, T2E 3Y1\, Canada
ORGANIZER;CN="Calgary%20Buddhist%20Temple":MAILTO:calgarybuddhisttemple@gmail.com
END:VEVENT
END:VCALENDAR