BEGIN:VCALENDAR
VERSION:2.0
PRODID:-//Calgary Buddhist Temple - ECPv5.1.2//NONSGML v1.0//EN
CALSCALE:GREGORIAN
METHOD:PUBLISH
X-WR-CALNAME:Calgary Buddhist Temple
X-ORIGINAL-URL:http://calgary-buddhist.ab.ca
X-WR-CALDESC:Events for Calgary Buddhist Temple
BEGIN:VTIMEZONE
TZID:America/Edmonton
BEGIN:DAYLIGHT
TZOFFSETFROM:-0700
TZOFFSETTO:-0600
TZNAME:MDT
DTSTART:20200308T090000
END:DAYLIGHT
BEGIN:STANDARD
TZOFFSETFROM:-0600
TZOFFSETTO:-0700
TZNAME:MST
DTSTART:20201101T080000
END:STANDARD
END:VTIMEZONE
BEGIN:VEVENT
DTSTART;TZID=America/Edmonton:20201129T100000
DTEND;TZID=America/Edmonton:20201129T110000
DTSTAMP:20260424T163539
CREATED:20191228T041434Z
LAST-MODIFIED:20201209T055748Z
UID:3602-1606644000-1606647600@calgary-buddhist.ab.ca
SUMMARY:Live Online Service
DESCRIPTION:In order to keep everyone safe\, the Temple will not to holding in-person services at this time. Sensei will be streaming regular Sunday Services using Facebook Live from the Facebook group\, Calgary Buddhist Temple Group starting at 10:00am (MST).  Everyone is welcome! \nFind relevant sections from the service book for this service here. \n  \nALSO AVAILABLE: \nDaily Evening Services \nServices also available on YouTube \n
URL:http://calgary-buddhist.ab.ca/event/service-71/
LOCATION:Calgary Buddhist Temple\, 658 - 1 Avenue N.E.\, Calgary\, Alberta\, T2E 3Y1\, Canada
ORGANIZER;CN="Calgary%20Buddhist%20Temple":MAILTO:calgarybuddhisttemple@gmail.com
END:VEVENT
END:VCALENDAR