BEGIN:VCALENDAR
VERSION:2.0
PRODID:-//Calgary Buddhist Temple - ECPv5.1.2//NONSGML v1.0//EN
CALSCALE:GREGORIAN
METHOD:PUBLISH
X-WR-CALNAME:Calgary Buddhist Temple
X-ORIGINAL-URL:http://calgary-buddhist.ab.ca
X-WR-CALDESC:Events for Calgary Buddhist Temple
BEGIN:VTIMEZONE
TZID:America/Edmonton
BEGIN:DAYLIGHT
TZOFFSETFROM:-0700
TZOFFSETTO:-0600
TZNAME:MDT
DTSTART:20200308T090000
END:DAYLIGHT
BEGIN:STANDARD
TZOFFSETFROM:-0600
TZOFFSETTO:-0700
TZNAME:MST
DTSTART:20201101T080000
END:STANDARD
END:VTIMEZONE
BEGIN:VEVENT
DTSTART;TZID=America/Edmonton:20201004T100000
DTEND;TZID=America/Edmonton:20201004T110000
DTSTAMP:20260422T092643
CREATED:20191228T032745Z
LAST-MODIFIED:20201003T185508Z
UID:3578-1601805600-1601809200@calgary-buddhist.ab.ca
SUMMARY:Shotsuki Service - CANCELLED
DESCRIPTION:This service cancelled due to health. \n
URL:http://calgary-buddhist.ab.ca/event/shotsuki-service-46/
LOCATION:Calgary Buddhist Temple\, 658 - 1 Avenue N.E.\, Calgary\, Alberta\, T2E 3Y1\, Canada
ORGANIZER;CN="Calgary%20Buddhist%20Temple":MAILTO:calgarybuddhisttemple@gmail.com
END:VEVENT
END:VCALENDAR