BEGIN:VCALENDAR
VERSION:2.0
PRODID:-//Calgary Buddhist Temple - ECPv5.1.2//NONSGML v1.0//EN
CALSCALE:GREGORIAN
METHOD:PUBLISH
X-WR-CALNAME:Calgary Buddhist Temple
X-ORIGINAL-URL:http://calgary-buddhist.ab.ca
X-WR-CALDESC:Events for Calgary Buddhist Temple
BEGIN:VTIMEZONE
TZID:America/Edmonton
BEGIN:DAYLIGHT
TZOFFSETFROM:-0700
TZOFFSETTO:-0600
TZNAME:MDT
DTSTART:20180311T090000
END:DAYLIGHT
BEGIN:STANDARD
TZOFFSETFROM:-0600
TZOFFSETTO:-0700
TZNAME:MST
DTSTART:20181104T080000
END:STANDARD
END:VTIMEZONE
BEGIN:VEVENT
DTSTART;TZID=America/Edmonton:20180515T190000
DTEND;TZID=America/Edmonton:20180515T203500
DTSTAMP:20260420T024941
CREATED:20180410T153422Z
LAST-MODIFIED:20180410T153422Z
UID:2711-1526410800-1526416500@calgary-buddhist.ab.ca
SUMMARY:Temple Circle
DESCRIPTION:Temple Circle – meditation & awareness \n  \nThis Tuesday group is a small meditation- & awareness-focused Practice ‘circuit’ meant for people who have been exploring Buddhism but wish to improve in: Meditation (25mins)\,Loving-Kindness\, Equanimity\, Compassion\, Sympathetic Joy\, Deep Listening\, & Gratitude. \nWe will get to know each other while we deepen our Practice in a safe and caring environment. Members will have the opportunity to run a weekly of session (voluntary). \nThis is a different form: that of a Circle\, with each member contributing and learning from each other. \n  \n  \nTo join\, I am asking interested people to have a commitment to this Circle for a ‘season’. \n(This is much the same as if you were to join a sports team. You can certainly miss a weekly session\, but I ask that you are committed to being there for yourself and each other as if you were on a team.) \n  \n  \nThis ‘Season’ Practice will run Tuesday evenings from May 22nd through July 31st\, starting at 7pm\, at the Temple \n(IE: 12 weeks). We usually finish about ~8:30pm\, then a little shared cleanup of teacups that we used etc.) \n  \nYou can come on Tuesday May 15th to try it out before the ‘committed’ Season starts. \n  \nIt is a gentle group\, led by it’s members. Membership is limited. \nDana to the temple: $25/person\, speak to me if you cannot afford that\, it should not be an impediment to attending. \n  \nIn Gassho\, \nKen\, \nAssistant – Calgary Buddhist Temple \nChaplain – UCalgary \nPlease contact me here if interested or if you have questions. Feel free to pass along to interested persons. \n  \nEach evening is closed to those who have signed up for the Season\, sorry. \n  \nSUMMER APPRECIATION MEDITATION! \nWe will walk meditation outdoors and do Mindful Movement meditation during the summer Season! \n \n
URL:http://calgary-buddhist.ab.ca/event/temple-circle/
LOCATION:Calgary Buddhist Temple\, 658 - 1 Avenue N.E.\, Calgary\, Alberta\, T2E 3Y1\, Canada
END:VEVENT
END:VCALENDAR