BEGIN:VCALENDAR
VERSION:2.0
PRODID:-//Calgary Buddhist Temple - ECPv5.1.2//NONSGML v1.0//EN
CALSCALE:GREGORIAN
METHOD:PUBLISH
X-WR-CALNAME:Calgary Buddhist Temple
X-ORIGINAL-URL:http://calgary-buddhist.ab.ca
X-WR-CALDESC:Events for Calgary Buddhist Temple
BEGIN:VTIMEZONE
TZID:America/Edmonton
BEGIN:DAYLIGHT
TZOFFSETFROM:-0700
TZOFFSETTO:-0600
TZNAME:MDT
DTSTART:20200308T090000
END:DAYLIGHT
BEGIN:STANDARD
TZOFFSETFROM:-0600
TZOFFSETTO:-0700
TZNAME:MST
DTSTART:20201101T080000
END:STANDARD
END:VTIMEZONE
BEGIN:VEVENT
DTSTART;TZID=America/Edmonton:20201231T140000
DTEND;TZID=America/Edmonton:20201231T150000
DTSTAMP:20260425T012635
CREATED:20191228T042402Z
LAST-MODIFIED:20201211T043131Z
UID:3608-1609423200-1609426800@calgary-buddhist.ab.ca
SUMMARY:Year End Service – Joya-e
DESCRIPTION:Sensei will be streaming this Service using Facebook Live from the Facebook group\, Calgary Buddhist Temple Group starting at 2:00pm (MST).  \n
URL:http://calgary-buddhist.ab.ca/event/year-end-service-joya-e-2/
LOCATION:Calgary Buddhist Temple\, 658 - 1 Avenue N.E.\, Calgary\, Alberta\, T2E 3Y1\, Canada
ORGANIZER;CN="Calgary%20Buddhist%20Temple":MAILTO:calgarybuddhisttemple@gmail.com
END:VEVENT
END:VCALENDAR