BEGIN:VCALENDAR
VERSION:2.0
PRODID:-//Calgary Buddhist Temple - ECPv5.1.2//NONSGML v1.0//EN
CALSCALE:GREGORIAN
METHOD:PUBLISH
X-WR-CALNAME:Calgary Buddhist Temple
X-ORIGINAL-URL:https://calgary-buddhist.ab.ca
X-WR-CALDESC:Events for Calgary Buddhist Temple
BEGIN:VTIMEZONE
TZID:America/Edmonton
BEGIN:DAYLIGHT
TZOFFSETFROM:-0700
TZOFFSETTO:-0600
TZNAME:MDT
DTSTART:20240310T090000
END:DAYLIGHT
BEGIN:STANDARD
TZOFFSETFROM:-0600
TZOFFSETTO:-0700
TZNAME:MST
DTSTART:20241103T080000
END:STANDARD
END:VTIMEZONE
BEGIN:VEVENT
DTSTART;TZID=America/Edmonton:20240425T190000
DTEND;TZID=America/Edmonton:20240425T200000
DTSTAMP:20260421T062829
CREATED:20231222T041414Z
LAST-MODIFIED:20240423T162109Z
UID:6724-1714071600-1714075200@calgary-buddhist.ab.ca
SUMMARY:Book Club - rescheduled!
DESCRIPTION:Our scheduled book club meeting this week has been canceled. \nThe book club will gather again on Thursday\, May 9th at 7:00 pm to talk about chapter 4 “Buddhism in the Age of the Refugee” and chapter 5 “Principles for Engaged Shin Buddhism” \n
URL:https://calgary-buddhist.ab.ca/event/book-club-living-nembutsu-by-jeff-wilson-5/
LOCATION:Calgary Buddhist Temple\, 658 - 1 Avenue N.E.\, Calgary\, Alberta\, T2E 3Y1\, Canada
ORGANIZER;CN="Calgary%20Buddhist%20Temple":MAILTO:calgarybuddhisttemple@gmail.com
END:VEVENT
END:VCALENDAR