BEGIN:VCALENDAR
VERSION:2.0
PRODID:-//Calgary Buddhist Temple - ECPv5.1.2//NONSGML v1.0//EN
CALSCALE:GREGORIAN
METHOD:PUBLISH
X-WR-CALNAME:Calgary Buddhist Temple
X-ORIGINAL-URL:https://calgary-buddhist.ab.ca
X-WR-CALDESC:Events for Calgary Buddhist Temple
BEGIN:VTIMEZONE
TZID:America/Edmonton
BEGIN:DAYLIGHT
TZOFFSETFROM:-0700
TZOFFSETTO:-0600
TZNAME:MDT
DTSTART:20240310T090000
END:DAYLIGHT
BEGIN:STANDARD
TZOFFSETFROM:-0600
TZOFFSETTO:-0700
TZNAME:MST
DTSTART:20241103T080000
END:STANDARD
END:VTIMEZONE
BEGIN:VEVENT
DTSTART;TZID=America/Edmonton:20241110T113000
DTEND;TZID=America/Edmonton:20241110T130000
DTSTAMP:20260423T132023
CREATED:20240421T204724Z
LAST-MODIFIED:20240815T033217Z
UID:7126-1731238200-1731243600@calgary-buddhist.ab.ca
SUMMARY:Community Outreach
DESCRIPTION:Providing lunch service at the Calgary Drop-In (DI) Centre. We leave after the Sunday service around 11:15am and walk over to the DI together or meet there at 11:30am.  Ten volunteers are required\, and the minimum age is 16 years old. \nSign Up for Nov 10:  https://bit.ly/community-10Nov24   \n
URL:https://calgary-buddhist.ab.ca/event/community-outreach-5/
LOCATION:Calgary Drop In Centre\, 1 Dermot Baldwin Way SE\, Calgary\, AB\, T2G 0P8\, Canada
ORGANIZER;CN="Calgary%20Buddhist%20Temple":MAILTO:calgarybuddhisttemple@gmail.com
END:VEVENT
END:VCALENDAR