BEGIN:VCALENDAR
VERSION:2.0
PRODID:-//Calgary Buddhist Temple - ECPv5.1.2//NONSGML v1.0//EN
CALSCALE:GREGORIAN
METHOD:PUBLISH
X-WR-CALNAME:Calgary Buddhist Temple
X-ORIGINAL-URL:https://calgary-buddhist.ab.ca
X-WR-CALDESC:Events for Calgary Buddhist Temple
BEGIN:VTIMEZONE
TZID:America/Edmonton
BEGIN:DAYLIGHT
TZOFFSETFROM:-0700
TZOFFSETTO:-0600
TZNAME:MDT
DTSTART:20230312T090000
END:DAYLIGHT
BEGIN:STANDARD
TZOFFSETFROM:-0600
TZOFFSETTO:-0700
TZNAME:MST
DTSTART:20231105T080000
END:STANDARD
END:VTIMEZONE
BEGIN:VEVENT
DTSTART;TZID=America/Edmonton:20231217T113000
DTEND;TZID=America/Edmonton:20231217T130000
DTSTAMP:20260425T010712
CREATED:20230727T164605Z
LAST-MODIFIED:20230727T173907Z
UID:6335-1702812600-1702818000@calgary-buddhist.ab.ca
SUMMARY:Community Outreach
DESCRIPTION:Sangha Engagement \n \n
URL:https://calgary-buddhist.ab.ca/event/community-service-4/
LOCATION:Calgary Drop In Centre\, 1 Dermot Baldwin Way SE\, Calgary\, AB\, T2G 0P8\, Canada
END:VEVENT
END:VCALENDAR