BEGIN:VCALENDAR
VERSION:2.0
PRODID:-//Calgary Buddhist Temple - ECPv5.1.2//NONSGML v1.0//EN
CALSCALE:GREGORIAN
METHOD:PUBLISH
X-WR-CALNAME:Calgary Buddhist Temple
X-ORIGINAL-URL:https://calgary-buddhist.ab.ca
X-WR-CALDESC:Events for Calgary Buddhist Temple
BEGIN:VTIMEZONE
TZID:America/Edmonton
BEGIN:DAYLIGHT
TZOFFSETFROM:-0700
TZOFFSETTO:-0600
TZNAME:MDT
DTSTART:20240310T090000
END:DAYLIGHT
BEGIN:STANDARD
TZOFFSETFROM:-0600
TZOFFSETTO:-0700
TZNAME:MST
DTSTART:20241103T080000
END:STANDARD
END:VTIMEZONE
BEGIN:VEVENT
DTSTART;TZID=America/Edmonton:20241125T180000
DTEND;TZID=America/Edmonton:20241125T190000
DTSTAMP:20260423T115611
CREATED:20241117T190303Z
LAST-MODIFIED:20241117T190303Z
UID:7598-1732557600-1732561200@calgary-buddhist.ab.ca
SUMMARY:Community Yoga
DESCRIPTION:CLICK HERE to register! \n
URL:https://calgary-buddhist.ab.ca/event/community-yoga-2/
LOCATION:Calgary Buddhist Temple\, 658 - 1 Avenue N.E.\, Calgary\, Alberta\, T2E 3Y1\, Canada
ORGANIZER;CN="%40KelseaGrieveson":MAILTO:smmkelsea@gmail.com
END:VEVENT
END:VCALENDAR