BEGIN:VCALENDAR
VERSION:2.0
PRODID:-//Calgary Buddhist Temple - ECPv5.1.2//NONSGML v1.0//EN
CALSCALE:GREGORIAN
METHOD:PUBLISH
X-WR-CALNAME:Calgary Buddhist Temple
X-ORIGINAL-URL:https://calgary-buddhist.ab.ca
X-WR-CALDESC:Events for Calgary Buddhist Temple
BEGIN:VTIMEZONE
TZID:America/Edmonton
BEGIN:DAYLIGHT
TZOFFSETFROM:-0700
TZOFFSETTO:-0600
TZNAME:MDT
DTSTART:20240310T090000
END:DAYLIGHT
BEGIN:STANDARD
TZOFFSETFROM:-0600
TZOFFSETTO:-0700
TZNAME:MST
DTSTART:20241103T080000
END:STANDARD
END:VTIMEZONE
BEGIN:VEVENT
DTSTART;TZID=America/Edmonton:20240324T100000
DTEND;TZID=America/Edmonton:20240324T110000
DTSTAMP:20260424T143513
CREATED:20231128T054901Z
LAST-MODIFIED:20231128T054901Z
UID:6615-1711274400-1711278000@calgary-buddhist.ab.ca
SUMMARY:Sunday Service - WF Dana Day
DESCRIPTION:We hope you will join us either in-person or online on Facebook live – Everyone is welcome!  \nThis is the special day when all donations made on this particular day will go to the Jodo Shinshu Buddhist Temples of Canada (JSBTC) Women’s Federation (WF) Dana Day. These donations are consolidated with Temples across Canada and are directed specifically to national organization(s) promoting social welfare.  \n“Dana” is giving without thought of receiving something in return. The JSBTC Women’s Federation sincerely thank everyone who think of the challenges of others before themselves. \n
URL:https://calgary-buddhist.ab.ca/event/sunday-service-wf-dana-day/
LOCATION:Calgary Buddhist Temple\, 658 - 1 Avenue N.E.\, Calgary\, Alberta\, T2E 3Y1\, Canada
ORGANIZER;CN="Calgary%20Buddhist%20Temple":MAILTO:calgarybuddhisttemple@gmail.com
END:VEVENT
END:VCALENDAR